BEGIN:VCALENDAR
VERSION:2.0
PRODID:-//ChamberMaster//Event Calendar 2.0//EN
METHOD:PUBLISH
X-PUBLISHED-TTL:P3D
REFRESH-INTERVAL:P3D
CALSCALE:GREGORIAN
BEGIN:VEVENT
DTSTART:20231114T123000Z
DTEND:20231114T190000Z
X-MICROSOFT-CDO-ALLDAYEVENT:FALSE
SUMMARY:Young Women & The Workforce
DESCRIPTION:Young Women & The Workforce is a great opportunity for High School Juniors & Seniors to learn about and network with professionals.  This event is exclusively for the students of Linden\, Fenton and Lake Fenton Schools.
X-ALT-DESC;FMTTYPE=text/html:Young Women &amp\; The Workforce is a great opportunity for High School Juniors &amp\; Seniors to learn about and network with professionals.&nbsp\; This event is exclusively for the students of Linden\, Fenton and Lake Fenton Schools.
LOCATION:Loose Senior Center 707 N Bridge Street Linden\, MI 48451
UID:e.1362.9327
SEQUENCE:3
DTSTAMP:20260419T161726Z
URL:https://business.fentonchamber.com/events/details/young-women-the-workforce-9327
END:VEVENT

END:VCALENDAR
