BEGIN:VCALENDAR
VERSION:2.0
PRODID:-//ChamberMaster//Event Calendar 2.0//EN
METHOD:PUBLISH
X-PUBLISHED-TTL:P3D
REFRESH-INTERVAL:P3D
CALSCALE:GREGORIAN
BEGIN:VEVENT
DTSTART:20150409T213000Z
DTEND:20150409T230000Z
X-MICROSOFT-CDO-ALLDAYEVENT:FALSE
SUMMARY:Young Professionals Meeting
DESCRIPTION:Our meeting will be held at the Re/Max Platinum offices on Silver Lake Rd in Fenton.\n\n\n\nThank you to Edward Jones - Chad Robinson for sponsoring our food for this meeting.\n\n\n\nThe Fenton Regional Young Professionals Network hosts a monthly meeting the 2nd Thursday of every month from 5:30-7:00pm. \n\n\n\nThere will be opportunities to build your network\, grow your professional skills\, engage with your community\, and connect with the Chamber.\n\n\n\nClick Here for More Information\n\nClick Here for Membership Application
X-ALT-DESC;FMTTYPE=text/html:Our meeting will be held at the Re/Max Platinum offices on Silver Lake Rd in Fenton.<br />\n<br />\nThank you to Edward Jones - Chad Robinson for sponsoring our food for this meeting.<br />\n<br />\nThe Fenton Regional Young Professionals Network hosts a monthly meeting the 2nd Thursday of every month from 5:30-7:00pm.&nbsp\;<br />\n<br />\nThere will be opportunities to build your network\, grow your professional skills\, engage with your community\, and connect with the Chamber.<br />\n<br />\n<a href="http://cloud.chambermaster.com/userfiles/UserFiles/chambers/1362/File/YOUNGPROFESSIONALSNETWORKINFOMATIONFLYER.pdf">Click Here for More Information</a><br />\n<a href="http://cloud.chambermaster.com/userfiles/UserFiles/chambers/1362/File/CompleteApplication.pdf">Click Here for Membership Application</a>
LOCATION:Re/Max Platinum Office 3295 Silver Lake Rd Fenton\, MI 48430 (monthly meeting locations may vary - locations will be announced as they are secured)
UID:e.1362.2679
SEQUENCE:3
DTSTAMP:20260420T100502Z
URL:https://business.fentonchamber.com/events/details/young-professionals-meeting-04-09-2015-2679
END:VEVENT

END:VCALENDAR
