BEGIN:VCALENDAR
VERSION:2.0
PRODID:-//ChamberMaster//Event Calendar 2.0//EN
METHOD:PUBLISH
X-PUBLISHED-TTL:P3D
REFRESH-INTERVAL:P3D
CALSCALE:GREGORIAN
BEGIN:VEVENT
DTSTART:20150312T213000Z
DTEND:20150312T230000Z
X-MICROSOFT-CDO-ALLDAYEVENT:FALSE
SUMMARY:Young Professionals Meeting
DESCRIPTION:Our meeting will be held at Legend's Sports Cafe on Thompson Rd in Fenton.  Advanced Water Treatment was kind enough to sponsor our meeting so appetizers will be served.\n\n\n\nThe Fenton Regional Young Professionals Network hosts a monthly meeting the 2nd Thursday of every month from 5:30-7:00pm. \n\n\n\nThere will be opportunities to build your network\, grow your professional skills\, engage with your community\, and connect with the Chamber.\n\n\n\nClick Here for More Information\n\nClick Here for Membership Application
X-ALT-DESC;FMTTYPE=text/html:Our meeting will be held at Legend&#39\;s Sports Cafe on Thompson Rd in Fenton.&nbsp\; Advanced Water Treatment was kind enough to sponsor our meeting so appetizers will be served.<br />\n<br />\nThe Fenton Regional Young Professionals Network hosts a monthly meeting the 2nd Thursday of every month from 5:30-7:00pm.&nbsp\;<br />\n<br />\nThere will be opportunities to build your network\, grow your professional skills\, engage with your community\, and connect with the Chamber.<br />\n<br />\n<a href="http://cloud.chambermaster.com/userfiles/UserFiles/chambers/1362/File/YOUNGPROFESSIONALSNETWORKINFOMATIONFLYER.pdf">Click Here for More Information</a><br />\n<a href="http://cloud.chambermaster.com/userfiles/UserFiles/chambers/1362/File/CompleteApplication.pdf">Click Here for Membership Application</a>
LOCATION:Legend's Sports Cafe 3235 W Thompson Rd Fenton\, MI 48430 (monthly meeting locations may vary - locations will be announced as they are secured)
UID:e.1362.2678
SEQUENCE:3
DTSTAMP:20260420T101036Z
URL:https://business.fentonchamber.com/events/details/young-professionals-meeting-03-12-2015-2678
END:VEVENT

END:VCALENDAR
