BEGIN:VCALENDAR
VERSION:2.0
PRODID:-//ChamberMaster//Event Calendar 2.0//EN
METHOD:PUBLISH
X-PUBLISHED-TTL:P3D
REFRESH-INTERVAL:P3D
CALSCALE:GREGORIAN
BEGIN:VEVENT
DTSTART:20221203T180000Z
DTEND:20221203T190000Z
X-MICROSOFT-CDO-ALLDAYEVENT:FALSE
SUMMARY:Women's Self-Defense Class/Zonta Club Fundraiser
DESCRIPTION:Learn practical self-defense techniques during this class with all proceeds going to the Zonta Club of Fenton.
X-ALT-DESC;FMTTYPE=text/html:Learn practical self-defense techniques during this class with all proceeds going to the Zonta Club of Fenton.
LOCATION:Anderson's Karate 4031 Owen Rd. Fenton\, MI 48430
UID:e.1362.8962
SEQUENCE:3
DTSTAMP:20260420T093525Z
URL:https://business.fentonchamber.com/events/details/women-s-self-defense-class-zonta-club-fundraiser-8962
END:VEVENT

END:VCALENDAR
