BEGIN:VCALENDAR
VERSION:2.0
PRODID:-//ChamberMaster//Event Calendar 2.0//EN
METHOD:PUBLISH
X-PUBLISHED-TTL:P3D
REFRESH-INTERVAL:P3D
CALSCALE:GREGORIAN
BEGIN:VEVENT
DTSTART:20230801T220000Z
DTEND:20230802T000000Z
X-MICROSOFT-CDO-ALLDAYEVENT:FALSE
SUMMARY:Wine and Words - an evening in the garden with author Colleen Cambridge
DESCRIPTION:Join Fenton's Open Book and La Petite Maison for a relaxing evening in the garden. Enjoy wine\, cheese\, conversation\, and a chance to meet local author Colleen Cambridge (Gleason). Colleen will share a bit about her latest book\, Mastering the Art of French Murder\, and her experiences as a published author. Book purchases and signing will follow\, and her other books will be available as well. Both stores will be open for shopping.\n\n\n\nTickets $15 \n\nEvent is rain or shine. Questions? Call La Petite Maison at 810-354-8344
X-ALT-DESC;FMTTYPE=text/html:<p>Join Fenton&#39\;s Open Book and La Petite Maison for a relaxing evening in the garden. Enjoy wine\, cheese\, conversation\, and a chance to meet local author Colleen Cambridge (Gleason). Colleen will share a bit about her latest book\, <em>Mastering the Art of French Murder\,</em> and her experiences as a published author. Book purchases and signing will follow\, and her other books will be available as well. Both stores will be open for shopping.<br />\n<br />\nTickets $15&nbsp\;</p>\n\n<p>Event is rain or shine. Questions? Call La Petite Maison at 810-354-8344</p>\n
LOCATION:La Petite Maison\, 107 Shiawassee Ave.\, Fenton
UID:e.1362.9264
SEQUENCE:3
DTSTAMP:20260419T205555Z
URL:https://business.fentonchamber.com/events/details/wine-and-words-an-evening-in-the-garden-with-author-colleen-cambridge-9264
END:VEVENT

END:VCALENDAR
