BEGIN:VCALENDAR
VERSION:2.0
PRODID:-//ChamberMaster//Event Calendar 2.0//EN
METHOD:PUBLISH
X-PUBLISHED-TTL:P3D
REFRESH-INTERVAL:P3D
CALSCALE:GREGORIAN
BEGIN:VEVENT
DTSTART:20150423T190000Z
DTEND:20150423T220000Z
X-MICROSOFT-CDO-ALLDAYEVENT:FALSE
SUMMARY:Williams & Knack\, P.C. Open House
DESCRIPTION:The Law Firm of Timothy L. Williams & Associates\, P.C. is pleased to announce that Adrienne B. Knack has become a shareholder of the firm and we proudly present to you the law firm of Williams & Knack\, P.C. We invite you to join us for our Open House on April 23\, 2015 from 3:00 - 6:00 p.m. at 10299 Grand River Road\, Suite I\, Brighton\, MI 48116.
X-ALT-DESC;FMTTYPE=text/html:The Law Firm of Timothy L. Williams &amp\; Associates\, P.C. is pleased to announce that Adrienne B. Knack has become a shareholder of the firm and we proudly present to you the law firm of Williams &amp\; Knack\, P.C. We invite you to join us for our Open House on April 23\, 2015 from 3:00 - 6:00 p.m. at 10299 Grand River Road\, Suite I\, Brighton\, MI 48116.
LOCATION:10299 Grand River Road\, Suite I\, Brighton\, MI 48116
UID:e.1362.2826
SEQUENCE:3
DTSTAMP:20260422T190555Z
URL:https://business.fentonchamber.com/events/details/williams-knack-p-c-open-house-04-23-2015-2826
END:VEVENT

END:VCALENDAR
