BEGIN:VCALENDAR
VERSION:2.0
PRODID:-//ChamberMaster//Event Calendar 2.0//EN
METHOD:PUBLISH
X-PUBLISHED-TTL:P3D
REFRESH-INTERVAL:P3D
CALSCALE:GREGORIAN
BEGIN:VEVENT
DTSTART:20150227T210000Z
DTEND:20150228T000000Z
X-MICROSOFT-CDO-ALLDAYEVENT:FALSE
SUMMARY:VFW Fish Fry
DESCRIPTION:VFW Post 3243 Friday Night Fish Fry (& Chicken) Come on in\, OPEN TO THE PUBLIC. DRIVE UP ORDERS CALL: 629-1621 FOR INFORMATION AFTER 2:PM 629-3700.
X-ALT-DESC;FMTTYPE=text/html:VFW Post 3243 Friday Night Fish Fry (&amp\; Chicken) Come on in\, OPEN TO THE PUBLIC. DRIVE UP ORDERS CALL: 629-1621 FOR INFORMATION AFTER 2:PM 629-3700.
LOCATION:1148 N Leroy St Fenton\, MI 48430
UID:e.1362.2811
SEQUENCE:3
DTSTAMP:20260420T180529Z
URL:https://business.fentonchamber.com/events/details/vfw-fish-fry-02-27-2015-2811
END:VEVENT

END:VCALENDAR
