BEGIN:VCALENDAR
VERSION:2.0
PRODID:-//ChamberMaster//Event Calendar 2.0//EN
METHOD:PUBLISH
X-PUBLISHED-TTL:P3D
REFRESH-INTERVAL:P3D
CALSCALE:GREGORIAN
BEGIN:VEVENT
DTSTART:20150825T160000Z
DTEND:20150825T190000Z
X-MICROSOFT-CDO-ALLDAYEVENT:FALSE
SUMMARY:Uncle Ray's Fundraiser for the Fenton Backpack program by Delivering Hope Noon-3PM
DESCRIPTION:We are bringing the backpack program to the Fenton Area public schools. \n\nAll proceeds to benefit the establishment of the backpack (weekend food assistance) program in Fenton.\n\n$100 feeds a child for the entire school year. \n\nTuesday 8/25 Noon - 3PM\n\nIce cream and golf for $7.50
X-ALT-DESC;FMTTYPE=text/html:We are bringing the backpack program to the Fenton Area public schools.&nbsp\;<br />\nAll proceeds to benefit the establishment of the backpack (weekend food assistance) program in Fenton.<br />\n$100 feeds a child for the entire school year.&nbsp\;<br />\nTuesday 8/25 Noon - 3PM<br />\nIce cream and golf for $7.50
LOCATION:Uncle Ray's Dairyland
UID:e.1362.3091
SEQUENCE:3
DTSTAMP:20260425T231406Z
URL:https://business.fentonchamber.com/events/details/uncle-ray-s-fundraiser-for-the-fenton-backpack-program-by-delivering-hope-noon-3pm-08-25-2015-3091
END:VEVENT

END:VCALENDAR
