BEGIN:VCALENDAR
VERSION:2.0
PRODID:-//ChamberMaster//Event Calendar 2.0//EN
METHOD:PUBLISH
X-PUBLISHED-TTL:P3D
REFRESH-INTERVAL:P3D
CALSCALE:GREGORIAN
BEGIN:VEVENT
DTSTART:20220604T200000Z
DTEND:20220604T230000Z
X-MICROSOFT-CDO-ALLDAYEVENT:FALSE
SUMMARY:Ukrainian Solidarity Fund Benefit Dinner
DESCRIPTION:Ukrainian Solidarity Fund Benefit Dinner  \n\nat St. John the Evangelist Activity Center\n\n   Saturday\, June 4th\, 4-7PM  \n\n Buffet style Fish Dinner dine-in service only\n\n$15 for full fish dinner\, $7 for Macaroni and Fries Meal.\n\nDesserts provided by Ladies Auxiliary. \n\nOnline advance purchase and/or donations will be accepted beginning May 18th at StJohnFenton.org. \n\nAny small business donations appreciated and will be given Sponsor recognition. \n\nFor more information about event or donating call Ray at 248-885-0807
X-ALT-DESC;FMTTYPE=text/html:<div style="text-align: center\;"><span style="font-size:20px"><span style="color:#FFFF00"><strong><span style="background-color:#0000CD">&nbsp\; Ukrainian Solidarity Fund Benefit Dinner&nbsp\;&nbsp\;</span></strong></span></span></div>\n\n<div style="text-align: center\;">at St. John the Evangelist Activity Center<br />\n&nbsp\;<span style="font-size:14px"><span style="color:#0000CD"><span style="font-size:18px"><strong><span style="background-color:#FFD700">&nbsp\; Saturday\, June 4th\, 4-7PM&nbsp\;&nbsp\;</span></strong></span></span></span><br />\n&nbsp\;<span style="font-size:14px"><strong>Buffet style Fish Dinner</strong></span>&nbsp\;dine-in service only<br />\n<span style="color:#0000CD"><strong>$15 for full fish dinner\, $7 for Macaroni and Fries Meal</strong></span>.<br />\nDesserts provided by Ladies Auxiliary.&nbsp\;<br />\n<strong>Online advance purchase and/or donations will be accepted beginning May 18th at <a href="http://www.stjohnfenton.org">StJohnFenton.org</a>.</strong>&nbsp\;<br />\n<em>Any small business donations appreciated and will be given Sponsor recognition.&nbsp\;<br />\nFor more information about event or donating call Ray at 248-885-0807</em></div>\n
LOCATION:St John the Evangelist Activity Center\, 600 N. Adelaide\, Fenton\, MI
UID:e.1362.8725
SEQUENCE:3
DTSTAMP:20260420T103922Z
URL:https://business.fentonchamber.com/events/details/ukrainian-solidarity-fund-benefit-dinner-8725
END:VEVENT

END:VCALENDAR
