BEGIN:VCALENDAR
VERSION:2.0
PRODID:-//ChamberMaster//Event Calendar 2.0//EN
METHOD:PUBLISH
X-PUBLISHED-TTL:P3D
REFRESH-INTERVAL:P3D
CALSCALE:GREGORIAN
BEGIN:VEVENT
DTSTART:20231028T180000Z
DTEND:20231028T203000Z
X-MICROSOFT-CDO-ALLDAYEVENT:FALSE
SUMMARY:Trunk or Treat
DESCRIPTION:Benchmark Church Annual Trunk or Treat\n\nJoin us for many decorated trunks\, treats and sweets! \n\n5530 Runyan Lake Road\, Fenton\n\n\n\nIf raining\, we will be inside the church!\n\n\n\nIf you are interested in decorating a trunk and passing out treats\, call Tina at (810) 632-3417 for more information
X-ALT-DESC;FMTTYPE=text/html:Benchmark Church Annual Trunk or Treat<br />\nJoin us for many decorated trunks\, treats and sweets!&nbsp\;<br />\n5530 Runyan Lake Road\, Fenton<br />\n<br />\nIf raining\, we will be inside the church!<br />\n<br />\nIf you are interested in decorating a trunk and passing out treats\, call Tina at (810) 632-3417 for more information
LOCATION:Benchmark Church 5530 Runyan Lake Road Fenton\, MI 48430
UID:e.1362.9295
SEQUENCE:3
DTSTAMP:20260419T180208Z
URL:https://business.fentonchamber.com/events/details/trunk-or-treat-9295
END:VEVENT

END:VCALENDAR
