BEGIN:VCALENDAR
VERSION:2.0
PRODID:-//ChamberMaster//Event Calendar 2.0//EN
METHOD:PUBLISH
X-PUBLISHED-TTL:P3D
REFRESH-INTERVAL:P3D
CALSCALE:GREGORIAN
BEGIN:VEVENT
DTSTART:20120421T160000Z
DTEND:20120421T190000Z
X-MICROSOFT-CDO-ALLDAYEVENT:FALSE
SUMMARY:Total Wellness Chiropractic Grand Re-Opening
DESCRIPTION:This free event will include food\, drinks\, games\, bounce house\, chair massages and giveaways!  Enter to win an Ipad from Andy Alger Re/Max Platinum\, win an Ipod and bicycle from Total Wellness Chiropractic\, 3 months free from Snap Fitness\, 3 personal training sessions with Eric J\, and Teeth Whitening from Dr. McGarry DDS and much more!!!
X-ALT-DESC;FMTTYPE=text/html:This free event will include food\, drinks\, games\, bounce house\, chair massages and giveaways!&nbsp\; Enter to win an Ipad from Andy Alger Re/Max Platinum\, win an Ipod and bicycle from Total Wellness Chiropractic\, 3 months free from Snap Fitness\, 3 personal training sessions with Eric J\, and&nbsp\;Teeth Whitening from Dr. McGarry DDS and much more!!!
LOCATION:Total Wellness Chiropractic 629 W. Broad Street\, Linden
UID:e.1362.93
SEQUENCE:3
DTSTAMP:20260425T200803Z
URL:https://business.fentonchamber.com/events/details/total-wellness-chiropractic-grand-re-opening-04-21-2012-93
END:VEVENT

END:VCALENDAR
