BEGIN:VCALENDAR
VERSION:2.0
PRODID:-//ChamberMaster//Event Calendar 2.0//EN
METHOD:PUBLISH
X-PUBLISHED-TTL:P3D
REFRESH-INTERVAL:P3D
CALSCALE:GREGORIAN
BEGIN:VEVENT
DTSTART:20150730T200000Z
DTEND:20150731T000000Z
X-MICROSOFT-CDO-ALLDAYEVENT:FALSE
SUMMARY:The Taste in Fenton
DESCRIPTION:In addition to great food tastes\, family and friends can enjoy a Kids Zone\, Music\, Pie Eating Contest\, Beer Stein Holding Contest and a Raffle to win $5\,000 or two tickets to Spain ($20 per raffle ticket). Drawing is scheduled for August 6\, 2015 at Back to the Bricks\n\n\n\nTo purchase tickets online for a reduced fee of $10.00 please click 'Register Now' above and follow the instructions.  \n\n\n\nONLINE TICKET SALES END JULY 29TH AT 12 MIDNIGHT.\n\n\n\nTickets purchased online will be available for pick up at the Fenton Chamber of Commerce (104 S. Adelaide St\, Fenton) 810 629-5447 or at the Will Call tent on the day of the event.\n\n\n\nClick Here for More Information\n\n\n\nClick Here for Current Menu
X-ALT-DESC;FMTTYPE=text/html:In addition to great food tastes\, family and friends can enjoy a Kids Zone\, Music\, Pie Eating Contest\, Beer Stein Holding Contest and a Raffle to win $5\,000 or two tickets to Spain ($20 per raffle ticket). Drawing is scheduled for August 6\, 2015 at Back to the Bricks<br />\n<br />\n<strong><span style="color:#FF0000\;">To purchase tickets online for a reduced fee of $10.00 please click &#39\;Register Now&#39\; above and follow the instructions.&nbsp\;&nbsp\;<br />\n<br />\n<u>ONLINE TICKET SALES END </u></span></strong><span style="color:#FF0000\;"><u><strong>JULY 29TH </strong><strong>AT 12 MIDNIGHT.</strong></u></span><br />\n<br />\nTickets purchased online will be available for pick up at the Fenton Chamber of Commerce (104 S. Adelaide St\, Fenton) 810 629-5447 or at the Will Call tent on the day of the event.<br />\n<br />\n<a href="http://cloud.chambermaster.com/userfiles/UserFiles/chambers/1362/File/Tri-CountyadJuly17th.pdf">Click Here for More Information</a><br />\n<br />\n<a href="http://cloud.chambermaster.com/userfiles/UserFiles/chambers/1362/File/RestaurantMenus2015update.pdf">Click Here for Current Menu</a><br />\n<br />\n<br />\n&nbsp\;
LOCATION:The Fenton Community & Cultural Center 150 S. Leroy St Fenton\, MI 48430
UID:e.1362.2842
SEQUENCE:3
DTSTAMP:20260426T003851Z
URL:https://business.fentonchamber.com/events/details/the-taste-in-fenton-07-30-2015-2842
END:VEVENT

END:VCALENDAR
