BEGIN:VCALENDAR
VERSION:2.0
PRODID:-//ChamberMaster//Event Calendar 2.0//EN
METHOD:PUBLISH
X-PUBLISHED-TTL:P3D
REFRESH-INTERVAL:P3D
CALSCALE:GREGORIAN
BEGIN:VEVENT
DTSTART:20231028T130000Z
DTEND:20231028T180000Z
X-MICROSOFT-CDO-ALLDAYEVENT:FALSE
SUMMARY:Sporting Clays Fun Shoot - Fenton Lakes Sportsmen Club
DESCRIPTION:Knights of Columbus - Fenton Council 7418\n\nSporting Clays Fun Shoot\n\n?Fenton Lakes Sportsmen Club\n\nLocal Charities Fund Raiser:\n\nCoats for Kids\, Community Food Pantry\, Special Olympics\, Programs supporting  Intellectually Disabled\, Pregnancy Resource Centers & St John School Scholarships\n\nFenton Lakes Sportsmen Club
X-ALT-DESC;FMTTYPE=text/html:<div style="text-align:center"><strong><span style="font-size:36.0pt"><span style="font-size:18px">Knights of Columbus - Fenton Council 7418</span><br />\nSporting Clays Fun Shoot</span><br />\n<span style="font-size:24px">?</span></strong><strong><span style="font-size:24px">Fenton Lakes Sportsmen Club</span><br />\n<u><span style="font-size:16px">Local Charities Fund Raiser:</span></u></strong><br />\n<strong><span style="font-size:12.0pt"><span style="font-size:14px"><em>Coats for Kids\, Community Food Pantry\, Special Olympics\, Programs supporting&nbsp\; Intellectually Disabled\, Pregnancy Resource Centers &amp\; St John School Scholarships</em></span></span></strong><br />\n<strong>Fenton Lakes Sportsmen Club</strong></div>\n
LOCATION:Fenton Lakes Sportsmen Club 1140 Butcher Rd. Fenton\, MI Lunch afterward at: Knights of Columbus Hall\, 517 Lincoln Street\, Fenton\, MI
UID:e.1362.9273
SEQUENCE:3
DTSTAMP:20260419T180006Z
URL:https://business.fentonchamber.com/events/details/sporting-clay-9273
END:VEVENT

END:VCALENDAR
