BEGIN:VCALENDAR
VERSION:2.0
PRODID:-//ChamberMaster//Event Calendar 2.0//EN
METHOD:PUBLISH
X-PUBLISHED-TTL:P3D
REFRESH-INTERVAL:P3D
CALSCALE:GREGORIAN
BEGIN:VEVENT
DTSTART:20230726T170000Z
DTEND:20230726T190000Z
X-MICROSOFT-CDO-ALLDAYEVENT:FALSE
SUMMARY:Sneak Peek Premiere
DESCRIPTION:We're rolling out the blue carpet for an exclusive community preview.\n\nFeast your eyes on a never-before-seen preview of Charter Senior Living of Linden's interior spaces and key areas\, and mingle with fellow guests while enjoying hors d'oeuvres\, refreshments\, and live entertainment. We'll also have a drawing for a surprise giveaway! Talk about a VIP experience!
X-ALT-DESC;FMTTYPE=text/html:<div>We&rsquo\;re rolling out the blue carpet for an exclusive community preview.</div>\n\n<div>Feast your eyes on a never-before-seen preview of Charter Senior Living of Linden&rsquo\;s interior spaces and key areas\, and mingle with fellow guests while enjoying hors d&rsquo\;oeuvres\, refreshments\, and live entertainment. We&rsquo\;ll also have a drawing for a surprise giveaway! Talk about a VIP experience!</div>\n
LOCATION:5050 Amelia Earhart Dr. Linden\, MI
UID:e.1362.9266
SEQUENCE:3
DTSTAMP:20260419T222831Z
URL:https://business.fentonchamber.com/events/details/sneak-peek-premiere-9266
END:VEVENT

END:VCALENDAR
