BEGIN:VCALENDAR
VERSION:2.0
PRODID:-//ChamberMaster//Event Calendar 2.0//EN
METHOD:PUBLISH
X-PUBLISHED-TTL:P3D
REFRESH-INTERVAL:P3D
CALSCALE:GREGORIAN
BEGIN:VEVENT
DTSTART:20121109T230000Z
DTEND:20121110T010000Z
X-MICROSOFT-CDO-ALLDAYEVENT:FALSE
SUMMARY:SLP&R Girls Night Out
DESCRIPTION:SLP&R and the Fenton Linden Girl Scouts present a special evening of games and fun with friends. Girls will make friendship bracelets\, get their nails done\, and play games. A portion of the proceeds go to the Fenton Linden Girl Scouts. Ages 5-10.
X-ALT-DESC;FMTTYPE=text/html:<span style="color: #ff0000"><strong>SLP&amp\;R and the Fenton Linden Girl Scouts present a special evening of games and fun with friends. Girls will make friendship bracelets\, get their nails done\, and play games. A portion of the proceeds go to the Fenton Linden Girl Scouts. Ages 5-10.&nbsp\;</strong></span>
LOCATION:Fenton Community & Cultural Center
UID:e.1362.183
SEQUENCE:3
DTSTAMP:20260426T031123Z
URL:https://business.fentonchamber.com/events/details/slp-r-girls-night-out-11-09-2012-183
END:VEVENT

END:VCALENDAR
