BEGIN:VCALENDAR
VERSION:2.0
PRODID:-//ChamberMaster//Event Calendar 2.0//EN
METHOD:PUBLISH
X-PUBLISHED-TTL:P3D
REFRESH-INTERVAL:P3D
CALSCALE:GREGORIAN
BEGIN:VEVENT
DTSTART:20200507T130000Z
DTEND:20200507T140000Z
X-MICROSOFT-CDO-ALLDAYEVENT:FALSE
SUMMARY:Silver Parkway Business District Meeting
DESCRIPTION:
X-ALT-DESC;FMTTYPE=text/html:
LOCATION:104 S.Adelaide St\, Fenton
UID:e.1362.4971
SEQUENCE:3
DTSTAMP:20260423T102654Z
URL:https://business.fentonchamber.com/events/details/silver-parkway-business-district-meeting-05-07-2020-4971
END:VEVENT

END:VCALENDAR
