BEGIN:VCALENDAR
VERSION:2.0
PRODID:-//ChamberMaster//Event Calendar 2.0//EN
METHOD:PUBLISH
X-PUBLISHED-TTL:P3D
REFRESH-INTERVAL:P3D
CALSCALE:GREGORIAN
BEGIN:VEVENT
DTSTART:20231206T230000Z
DTEND:20231207T010000Z
X-MICROSOFT-CDO-ALLDAYEVENT:FALSE
SUMMARY:Serendipity Holiday Bazaar
DESCRIPTION:As the holiday season approaches\, Serendipity Spa of Linden is thrilled to extend an invitation to our cherished customers for an exclusive Holiday Bazaar Sip & Shop Event on December 6th. This event is our heartfelt expression of gratitude for the unwavering support and loyalty you've shown throughout the year.\n\n?? Event Highlights:\n\n\n	Complimentary Bites & Bubbles: Delight your taste buds with a curated selection of complimentary charcuterie\, festive cookies\, and champagne.\n	Local Businesses: Explore and shop unique gifts from several local businesses\, offering a diverse range of holiday finds.\n	Mini Services and Demos: Experience live demonstrations and mini-services showcasing our top of the line beauty and wellness products and service providers.\n	Raffle Prizes: Participate in our exciting raffle for a chance to win fabulous prizes and spread the joy.
X-ALT-DESC;FMTTYPE=text/html:<p><strong><span style="font-family:tahoma">As the holiday season approaches\, Serendipity Spa of Linden is thrilled to extend an invitation to our cherished customers for an exclusive Holiday Bazaar Sip &amp\; Shop Event on December 6th. This event is our heartfelt expression of gratitude for the unwavering support and loyalty you&#39\;ve shown throughout the year.</span></strong></p>\n\n<p><span style="font-family:tahoma">?? <strong><span style="color:var(--tw-prose-bold)">Event Highlights:</span></strong></span></p>\n\n<ul>\n	<li><span style="font-family:tahoma"><strong><span style="color:var(--tw-prose-bold)">Complimentary Bites &amp\; Bubbles:</span></strong> Delight your taste buds with a curated selection of complimentary charcuterie\, festive cookies\, and champagne.</span></li>\n	<li><span style="font-family:tahoma"><strong><span style="color:var(--tw-prose-bold)">Local Businesses:</span></strong> Explore and shop unique gifts from several local businesses\, offering a diverse range of holiday finds.</span></li>\n	<li><span style="font-family:tahoma"><strong><span style="color:var(--tw-prose-bold)">Mini Services and Demos:</span></strong> Experience live demonstrations and mini-services showcasing our top of the line beauty and wellness products and service providers.</span></li>\n	<li><span style="font-family:tahoma"><strong><span style="color:var(--tw-prose-bold)">Raffle Prizes:</span></strong> Participate in our exciting raffle for a chance to win fabulous prizes and spread the joy.</span></li>\n</ul>\n
LOCATION:129 E. Broad St. Linden\, MI 48451
UID:e.1362.9336
SEQUENCE:3
DTSTAMP:20260422T120200Z
URL:https://business.fentonchamber.com/events/details/serendipity-holiday-bazaar-9336
END:VEVENT

END:VCALENDAR
