BEGIN:VCALENDAR
VERSION:2.0
PRODID:-//ChamberMaster//Event Calendar 2.0//EN
METHOD:PUBLISH
X-PUBLISHED-TTL:P3D
REFRESH-INTERVAL:P3D
CALSCALE:GREGORIAN
BEGIN:VEVENT
DTSTART:20120405T220000Z
DTEND:20120405T220000Z
X-MICROSOFT-CDO-ALLDAYEVENT:FALSE
SUMMARY:Selling Your Home with a Short Sale
DESCRIPTION:If you are underwater\, considering a short sale\, \n\n	or looking for the real facts on Selling your home\, \n\n	you will want to come to this important FREE informational and find out more.\n\n	\n\n	\n\n	   Learn the REAL facts about selling your home even after a Sheriffs Sale\n\n	  Know your options in a short sale or foreclosure .\n\n	  Rebuild your credit even after bankruptcy.\n\n\n\n	For more informationor to set up a private consultation\n\n	 Contact:  MIHomeAssistant@Gmail.com   Melch 810-513-1561\n\n	 Tremaine Real Living\n\n	 1032 N Leroy St Fenton MI 48430\n\n	810-750-4665\nFree
X-ALT-DESC;FMTTYPE=text/html:<p class="MsoNormal" style="mso-pagination:none\;text-align:center\;line-height:\n125%\;text-align:center">\n	<span style="font-size:12.0pt\;line-height:125%\;\nfont-family:Arial\;mso-default-font-family:Arial\;mso-ascii-font-family:Arial\;\nmso-latin-font-family:Arial\;mso-greek-font-family:Arial\;mso-cyrillic-font-family:\nArial\;mso-hebrew-font-family:Arial\;mso-arabic-font-family:Arial\;mso-latinext-font-family:\nArial\;language:EN\;mso-ansi-language:EN">If you are underwater\, considering a short sale\, <o:p></o:p></span></p>\n<p class="MsoNormal" style="mso-pagination:none\;text-align:center\;line-height:\n125%\;text-align:center">\n	<span style="font-size:12.0pt\;line-height:125%\;\nfont-family:Arial\;mso-default-font-family:Arial\;mso-ascii-font-family:Arial\;\nmso-latin-font-family:Arial\;mso-greek-font-family:Arial\;mso-cyrillic-font-family:\nArial\;mso-hebrew-font-family:Arial\;mso-arabic-font-family:Arial\;mso-latinext-font-family:\nArial\;language:EN\;mso-ansi-language:EN">or looking for the real facts on Selling your home\, <o:p></o:p></span></p>\n<p class="MsoNormal" style="mso-pagination:none\;text-align:center\;line-height:\n125%\;text-align:center">\n	<span style="font-size:12.0pt\;line-height:125%\;\nfont-family:Arial\;mso-default-font-family:Arial\;mso-ascii-font-family:Arial\;\nmso-latin-font-family:Arial\;mso-greek-font-family:Arial\;mso-cyrillic-font-family:\nArial\;mso-hebrew-font-family:Arial\;mso-arabic-font-family:Arial\;mso-latinext-font-family:\nArial\;language:EN\;mso-ansi-language:EN">you will want to come to this important FREE informational and find out more.</span><br />\n	<br />\n	<span style="font-size:12.0pt\;line-height:125%\;font-family:Arial\;mso-default-font-family:\nArial\;mso-ascii-font-family:Arial\;mso-latin-font-family:Arial\;mso-greek-font-family:\nArial\;mso-cyrillic-font-family:Arial\;mso-hebrew-font-family:Arial\;mso-arabic-font-family:\nArial\;mso-latinext-font-family:Arial\;language:EN"><o:p></o:p></span></p>\n<p class="MsoNormal">\n	<!--[if !supportEmptyParas]-->&nbsp\;<!--[endif]--><o:p></o:p><span style="line-height: 125%\; text-align: center\; text-indent: -18pt\; direction: ltr\; unicode-bidi: embed\; font-family: Symbol\; font-size: 12pt\; ">&middot\;</span><span style="line-height: 125%\; text-align: center\; text-indent: -18pt\; width: 12.75pt\; ">&nbsp\;</span><span style="text-align: center\; text-indent: -18pt\; font-size: 12pt\; line-height: 125%\; font-family: Arial\; ">Learn the REAL facts about selling your home&nbsp\;even after a Sheriffs Sale</span></p>\n<p class="MsoNormal" style="mso-pagination:none\;text-indent:-18.0pt\;margin-left:\n18.0pt\;line-height:125%\;mso-level-number-format:bullet\;mso-level-text:·\;\nmso-level-size:12.0pt\;mso-level-font-family:Symbol">\n	<!--[if !supportLists]--><span style="direction: ltr\; unicode-bidi: embed\; font-family: Symbol\; font-size: 12pt\; ">&middot\;</span><span style="width:12.75pt">&nbsp\;</span><!--[endif]--><span style="font-size: 12pt\; line-height: 125%\; font-family: Arial\; ">Know your options in a short sale or foreclosure .<o:p></o:p></span></p>\n<p class="MsoNormal" style="text-indent: -18pt\; margin-left: 18pt\; ">\n	<!--[if !supportLists]--><span style="line-height: 125%\; direction: ltr\; unicode-bidi: embed\; font-family: Symbol\; font-size: 12pt\; ">&middot\;</span><span style="line-height: 125%\; width: 12.75pt\; ">&nbsp\;</span><!--[endif]--><span style="font-size: 12pt\; line-height: 125%\; font-family: Arial\; ">Rebuild your credit even after bankruptcy.</span></p>\n<br />\n<p class="MsoNormal" style="line-height: 125%\; text-align: center\; ">\n	<span style="font-size: 12pt\; font-family: Arial\; font-style: italic\; ">For more information</span><span style="font-family: Arial\; font-size: 12pt\; font-style: italic\; line-height: 125%\; text-indent: -18pt\; ">or to set up a private consultation</span></p>\n<p class="MsoNormal" style="line-height: 125%\; ">\n	<!--[if !supportEmptyParas]--><span style="font-size: 11pt\; font-family: Arial\; font-style: italic\; ">&nbsp\;</span><span style="font-family: Arial\; font-weight: bold\; line-height: 150%\; text-align: center\; text-indent: -18pt\; ">Contact: &nbsp\;</span><span style="text-align: center\; text-indent: -18pt\; font-size: 12pt\; line-height: 150%\; font-family: Arial\; color: rgb(17\, 85\, 204)\; "><a href="mailto:MIHomeAssistant@Gmail.com">MIHomeAssistant@Gmail.com</a></span><span style="text-align: center\; text-indent: -18pt\; font-size: 12pt\; line-height: 150%\; font-family: Arial\; ">&nbsp\; &nbsp\;</span><span style="text-align: center\; text-indent: -18pt\; font-size: 12pt\; line-height: 150%\; font-family: Arial\; ">Melch&nbsp\;</span><span style="text-align: center\; text-indent: -18pt\; font-size: 12pt\; line-height: 150%\; font-family: Arial\; color: rgb(17\, 85\, 204)\; "><a href="tel:810-513-1561">810-513-1561</a></span></p>\n<p class="MsoNormal" style="line-height: 125%\; ">\n	<!--[if !supportEmptyParas]-->&nbsp\;<!--[endif]--><o:p></o:p><span style="text-decoration: underline\; color: rgb(124\, 6\, 26)\; font-family: 'Arial Narrow'\; font-size: 16pt\; font-weight: bold\; line-height: 114%\; text-align: center\; text-indent: -18pt\; ">Tremaine Real Living</span></p>\n<p class="MsoNormal">\n	<!--[if !supportEmptyParas]-->&nbsp\;1032 N Leroy St Fenton MI 48430<br />\n	810-750-4665<o:p></o:p></p>\n<!--EndFragment-->Free<br />\n<o:p></o:p>\n<p>\n	&nbsp\;</p>\n<p class="MsoNormal" style="text-align: center\; ">\n	&nbsp\;</p>\n<p class="MsoNormal">\n	<!--[if !supportEmptyParas]-->&nbsp\;<!--[endif]--><o:p></o:p></p>\n<span style="font-size: 12pt\; line-height: 125%\; font-family: Arial\; "><o:p></o:p></span>\n<p class="MsoNormal">\n	<!--[if !supportEmptyParas]-->&nbsp\;<!--[endif]--><o:p></o:p></p>\n
LOCATION:Tremaine Real Living - 1032 N Leroy St Fenton MI 48430
UID:e.1362.6
SEQUENCE:3
DTSTAMP:20260425T200657Z
URL:https://business.fentonchamber.com/events/details/selling-your-home-with-a-short-sale-04-05-2012-6
END:VEVENT

END:VCALENDAR
