BEGIN:VCALENDAR
VERSION:2.0
PRODID:-//ChamberMaster//Event Calendar 2.0//EN
METHOD:PUBLISH
X-PUBLISHED-TTL:P3D
REFRESH-INTERVAL:P3D
CALSCALE:GREGORIAN
BEGIN:VEVENT
DTSTART:20120621T130000Z
DTEND:20120622T210000Z
X-MICROSOFT-CDO-ALLDAYEVENT:FALSE
SUMMARY:Rummage Sale -Adopt-A-Pet
DESCRIPTION:
X-ALT-DESC;FMTTYPE=text/html:
LOCATION:13575 Fenton Rd.\, Fenton
UID:e.1362.157
SEQUENCE:3
DTSTAMP:20260426T022834Z
URL:https://business.fentonchamber.com/events/details/rummage-sale-adopt-a-pet-06-21-2012-157
END:VEVENT

END:VCALENDAR
