BEGIN:VCALENDAR
VERSION:2.0
PRODID:-//ChamberMaster//Event Calendar 2.0//EN
METHOD:PUBLISH
X-PUBLISHED-TTL:P3D
REFRESH-INTERVAL:P3D
CALSCALE:GREGORIAN
BEGIN:VEVENT
DTSTART:20230817T170000Z
DTEND:20230817T190000Z
X-MICROSOFT-CDO-ALLDAYEVENT:FALSE
SUMMARY:Ribbon Cutting Ceremony - The Vitamin Shoppe
DESCRIPTION:Join us for a Ribbon Cutting Ceremony at The Vitamin Shoppe to celebrate their new location!\n\nGift Bags for the first 100 guests!\n\nDrawings for full size Vitamin Shop products!
X-ALT-DESC;FMTTYPE=text/html:<span style="font-size:24px\;"><em style="color: rgb(0\, 73\, 144)\; font-family: sans-serif\, Arial\, Verdana\, &quot\;Trebuchet MS&quot\;\; font-size: 16px\; background-color: rgb(255\, 255\, 255)\;"><strong>Join us for a Ribbon Cutting Ceremony at The Vitamin Shoppe to celebrate their new location!<br />\nGift Bags for the first 100 guests!<br />\nDrawings for full size Vitamin Shop products!</strong></em></span>
LOCATION:The Vitamin Shoppe 19005 Silver Parkway Fenton\, MI 48430
UID:e.1362.9265
SEQUENCE:3
DTSTAMP:20260419T205503Z
URL:https://business.fentonchamber.com/events/details/ribbon-cutting-ceremony-the-vitamin-shoppe-9265
END:VEVENT

END:VCALENDAR
