BEGIN:VCALENDAR
VERSION:2.0
PRODID:-//ChamberMaster//Event Calendar 2.0//EN
METHOD:PUBLISH
X-PUBLISHED-TTL:P3D
REFRESH-INTERVAL:P3D
CALSCALE:GREGORIAN
BEGIN:VEVENT
DTSTART:20231027T130000Z
DTEND:20231027T140000Z
X-MICROSOFT-CDO-ALLDAYEVENT:FALSE
SUMMARY:Ribbon Cutting Ceremony & Grand Re-Opening of Walmart
DESCRIPTION:Join us for a Ribbon Cutting Ceremony & Grand Re-Opening at Walmart to celebrate their updated location!
X-ALT-DESC;FMTTYPE=text/html:<span style="font-size:24px\;"><em style="color: rgb(0\, 73\, 144)\; font-family: sans-serif\, Arial\, Verdana\, &quot\;Trebuchet MS&quot\;\; font-size: 16px\; background-color: rgb(255\, 255\, 255)\;"><strong>Join us for a Ribbon Cutting Ceremony &amp\; Grand Re-Opening at Walmart to celebrate their updated location!</strong></em></span>
LOCATION:Walmart 3700 Owen Road Fenton\, MI
UID:e.1362.9317
SEQUENCE:3
DTSTAMP:20260419T181126Z
URL:https://business.fentonchamber.com/events/details/ribbon-cutting-ceremony-grand-re-opening-of-walmart-9317
END:VEVENT

END:VCALENDAR
