BEGIN:VCALENDAR
VERSION:2.0
PRODID:-//ChamberMaster//Event Calendar 2.0//EN
METHOD:PUBLISH
X-PUBLISHED-TTL:P3D
REFRESH-INTERVAL:P3D
CALSCALE:GREGORIAN
BEGIN:VEVENT
DTSTART:20231020T160000Z
DTEND:20231020T213000Z
X-MICROSOFT-CDO-ALLDAYEVENT:FALSE
SUMMARY:Ribbon Cutting Ceremony & Grand Opening - Peabody Insurance
DESCRIPTION:Join us for a Ribbon Cutting Ceremony and Tailgate Party at Peabody Insurance to celebrate their new location!\n\nTailgate Party and Open House from Noon - 5:30pm\n\nRibbon Cutting 2:00pm.\n\nFood\, beverages\, friends and FUN!
X-ALT-DESC;FMTTYPE=text/html:<span style="font-size:24px\;"><em style="color: rgb(0\, 73\, 144)\; font-family: sans-serif\, Arial\, Verdana\, &quot\;Trebuchet MS&quot\;\; font-size: 16px\; background-color: rgb(255\, 255\, 255)\;"><strong>Join us for a Ribbon Cutting Ceremony and Tailgate Party at Peabody Insurance to celebrate their new location!<br />\nTailgate Party and Open House from Noon - 5:30pm<br />\nRibbon Cutting 2:00pm.<br />\nFood\, beverages\, friends and FUN!</strong></em></span><br />\n<br />\n&nbsp\;
LOCATION:Peabody Insurance 1190 Torrey Road Fenton\, MI 48430
UID:e.1362.9291
SEQUENCE:3
DTSTAMP:20260419T180925Z
URL:https://business.fentonchamber.com/events/details/ribbon-cutting-ceremony-grand-opening-peabody-insurance-9291
END:VEVENT

END:VCALENDAR
