BEGIN:VCALENDAR
VERSION:2.0
PRODID:-//ChamberMaster//Event Calendar 2.0//EN
METHOD:PUBLISH
X-PUBLISHED-TTL:P3D
REFRESH-INTERVAL:P3D
CALSCALE:GREGORIAN
BEGIN:VEVENT
DTSTART:20231011T153000Z
DTEND:20231011T160000Z
X-MICROSOFT-CDO-ALLDAYEVENT:FALSE
SUMMARY:Ribbon Cutting Ceremony - Collections on Bridge Street & Beloved Books
DESCRIPTION:Join us for a Joint Ribbon Cutting Ceremony at Collections on Bridge Street & Beloved Books to celebrate their new businesses!
X-ALT-DESC;FMTTYPE=text/html:<span style="font-size:24px\;"><em style="color: rgb(0\, 73\, 144)\; font-family: sans-serif\, Arial\, Verdana\, &quot\;Trebuchet MS&quot\;\; font-size: 16px\; background-color: rgb(255\, 255\, 255)\;"><strong>Join us for a Joint Ribbon Cutting Ceremony at Collections on Bridge Street &amp\; Beloved Books to celebrate their new businesses!</strong></em></span>
LOCATION:Collections on Bridge Street & Beloved Books 208 North Bridge Street Linden\, MI
UID:e.1362.9315
SEQUENCE:3
DTSTAMP:20260419T181234Z
URL:https://business.fentonchamber.com/events/details/ribbon-cutting-ceremony-collections-on-bridge-street-beloved-books-9315
END:VEVENT

END:VCALENDAR
