BEGIN:VCALENDAR
VERSION:2.0
PRODID:-//ChamberMaster//Event Calendar 2.0//EN
METHOD:PUBLISH
X-PUBLISHED-TTL:P3D
REFRESH-INTERVAL:P3D
CALSCALE:GREGORIAN
BEGIN:VEVENT
DTSTART:20221103T120000Z
DTEND:20221103T130000Z
X-MICROSOFT-CDO-ALLDAYEVENT:FALSE
SUMMARY:Ribbon Cutting Ceremony
DESCRIPTION:Join us for a Ribbon Cutting Ceremony at Crumbl Cookies
X-ALT-DESC;FMTTYPE=text/html:<span style="color:004990\;"><span style="font-size:16px\;"><em><strong>Join us for a Ribbon Cutting Ceremony at Crumbl Cookies</strong></em></span></span><br />\n&nbsp\;
LOCATION:Crumbl Cookies 17075 Silver Parkway Fenton
UID:e.1362.17
SEQUENCE:3
DTSTAMP:20260420T104757Z
URL:https://business.fentonchamber.com/events/details/ribbon-cutting-ceremony-17
END:VEVENT

END:VCALENDAR
