BEGIN:VCALENDAR
VERSION:2.0
PRODID:-//ChamberMaster//Event Calendar 2.0//EN
METHOD:PUBLISH
X-PUBLISHED-TTL:P3D
REFRESH-INTERVAL:P3D
CALSCALE:GREGORIAN
BEGIN:VEVENT
DTSTART:20120329T133000Z
DTEND:20120329T140000Z
X-MICROSOFT-CDO-ALLDAYEVENT:FALSE
SUMMARY:Ribbon Cutting at Glik's in Fenton
DESCRIPTION:Join us at Glik's in Fenton to celebrate the completion of their remodeling project.  The first 50 attendees will receive a special prize!
X-ALT-DESC;FMTTYPE=text/html:Join us at Glik&#39\;s in Fenton to celebrate the completion of their remodeling project. &nbsp\;The first 50 attendees will receive a special prize!
LOCATION:Glik's in Fenton 18025 Silver Parkway Fenton\, MI 48430
UID:e.1362.4
SEQUENCE:3
DTSTAMP:20260425T221130Z
URL:https://business.fentonchamber.com/events/details/ribbon-cutting-at-glik-s-in-fenton-03-29-2012-4
END:VEVENT

END:VCALENDAR
