BEGIN:VCALENDAR
VERSION:2.0
PRODID:-//ChamberMaster//Event Calendar 2.0//EN
METHOD:PUBLISH
X-PUBLISHED-TTL:P3D
REFRESH-INTERVAL:P3D
CALSCALE:GREGORIAN
BEGIN:VEVENT
DTSTART:20131101T160000Z
DTEND:20131101T210000Z
X-MICROSOFT-CDO-ALLDAYEVENT:FALSE
SUMMARY:Peabody Insurance & Sulfaro DDS hosts MSU vs. UofM Tailgate
DESCRIPTION:Peabody Insurance and Dr. Sulfaro\, DDS are excited to host the 2013 Michigan vs. Michigan State Tailgate! The event is scheduled from 12pm-5pm\; stop in at any time to support your team. Hotdogs and salad will be served starting at noon\, so swing by on your lunch break. \n\n	Peabody Insurance has recently acquired the Addis Insurance Agency and would like to invite everyone to tour the newly remodeled digs! Please join us for some pre-game day tailgating with food\, beverages\, friends\, and fun. Tailgate is located between the Peabody Insurance Agency and Dr. Sulfaro\, DDS Office at 611 N. Saginaw St. Holly\, MI 48422.
X-ALT-DESC;FMTTYPE=text/html:<p class="MsoNormal">\n	Peabody Insurance and Dr. Sulfaro\, DDS are excited to host the 2013 Michigan vs. Michigan State Tailgate! The event is scheduled from 12pm-5pm\; stop in at any time to support your team. Hotdogs and salad will be served starting at noon\, so swing by on your lunch break. <o:p></o:p></p>\n<p class="MsoNormal">\n	Peabody Insurance has recently acquired the Addis Insurance Agency and would like to invite everyone to tour the newly remodeled digs! Please join us for some pre-game day tailgating with food\, beverages\, friends\, and fun. Tailgate is located between the Peabody Insurance Agency and Dr. Sulfaro\, DDS Office at 611 N. Saginaw St. Holly\, MI 48422.&nbsp\;<o:p></o:p></p>\n
LOCATION:611 N. Saginaw St. Holly\, MI 48442
UID:e.1362.441
SEQUENCE:3
DTSTAMP:20260423T003307Z
URL:https://business.fentonchamber.com/events/details/peabody-insurance-sulfaro-dds-hosts-msu-vs-uofm-tailgate-11-01-2013-441
END:VEVENT

END:VCALENDAR
