BEGIN:VCALENDAR
VERSION:2.0
PRODID:-//ChamberMaster//Event Calendar 2.0//EN
METHOD:PUBLISH
X-PUBLISHED-TTL:P3D
REFRESH-INTERVAL:P3D
CALSCALE:GREGORIAN
BEGIN:VEVENT
DTSTART:20260516T230000Z
DTEND:20260517T010000Z
X-MICROSOFT-CDO-ALLDAYEVENT:FALSE
SUMMARY:Open to the Public Modern Square Dance Party
DESCRIPTION:Looking for a fun night out? Join us at the Loose Center in Linden for a beginner-friendly public square dance. ? No experience needed ? We teach everything ? Great date night ? Lots of laughs ? Teens (with guardians) and adults welcome April 18 | 7 9 PM $25 per couple Come see why people are falling in love with modern square dancing.
X-ALT-DESC;FMTTYPE=text/html:Looking for a fun night out? Join us at the Loose Center in Linden for a beginner-friendly public square dance. ? No experience needed ? We teach everything ? Great date night ? Lots of laughs ? Teens (with guardians) and adults welcome April 18 | 7&ndash\;9 PM $25 per couple Come see why people are falling in love with modern square dancing.
LOCATION:Linden Loose Center 707 N. Bridge Rd. Linden\, MI
UID:e.1362.10366
SEQUENCE:3
DTSTAMP:20260423T044319Z
URL:https://business.fentonchamber.com/events/details/open-to-the-public-modern-square-dance-party-10366
END:VEVENT

END:VCALENDAR
