BEGIN:VCALENDAR
VERSION:2.0
PRODID:-//ChamberMaster//Event Calendar 2.0//EN
METHOD:PUBLISH
X-PUBLISHED-TTL:P3D
REFRESH-INTERVAL:P3D
CALSCALE:GREGORIAN
BEGIN:VEVENT
DTSTART:20120524T210000Z
DTEND:20120524T230000Z
X-MICROSOFT-CDO-ALLDAYEVENT:FALSE
SUMMARY:Open Mic Every Thursday
DESCRIPTION:If you play music\, sing\, looking for the next America star or simply like to enjoy listening to talented local artists\, come join us every Thursday 5pm - 7pm at Gatsby Grind Coffee House.
X-ALT-DESC;FMTTYPE=text/html:If you play music\, sing\, looking for the next America star or simply like to enjoy listening to talented local artists\, come join us every Thursday 5pm - 7pm at Gatsby Grind Coffee House.
LOCATION:Gatsby Grind Coffee House 14330 N Fenton Rd\, Fenton MI 48430
UID:e.1362.144
SEQUENCE:3
DTSTAMP:20260425T213203Z
URL:https://business.fentonchamber.com/events/details/open-mic-every-thursday-05-24-2012-144
END:VEVENT

END:VCALENDAR
