BEGIN:VCALENDAR
VERSION:2.0
PRODID:-//ChamberMaster//Event Calendar 2.0//EN
METHOD:PUBLISH
X-PUBLISHED-TTL:P3D
REFRESH-INTERVAL:P3D
CALSCALE:GREGORIAN
BEGIN:VEVENT
DTSTART:20121115T163000Z
DTEND:20121115T183000Z
X-MICROSOFT-CDO-ALLDAYEVENT:FALSE
SUMMARY:Networking @ Noon November
DESCRIPTION:The November Networking @ Noon will be held Thursday\, November 15th from 11:30am - 1:30pm.  Spring Meadows Country Club is sponsoring the event.  They are located at 1129 Ripley Road\, Linden.
X-ALT-DESC;FMTTYPE=text/html:The November Networking @ Noon will be held Thursday\, November 15th from 11:30am - 1:30pm.&nbsp\; Spring Meadows Country Club is sponsoring the event.&nbsp\; They are located at 1129 Ripley Road\, Linden.
LOCATION:Spring Meadows Country Club 1129 Ripley Road\, Linden
UID:e.1362.123
SEQUENCE:3
DTSTAMP:20260422T120328Z
URL:https://business.fentonchamber.com/events/details/networking-noon-november-11-15-2012-123
END:VEVENT

END:VCALENDAR
