BEGIN:VCALENDAR
VERSION:2.0
PRODID:-//ChamberMaster//Event Calendar 2.0//EN
METHOD:PUBLISH
X-PUBLISHED-TTL:P3D
REFRESH-INTERVAL:P3D
CALSCALE:GREGORIAN
BEGIN:VEVENT
DTSTART:20120719T153000Z
DTEND:20120719T173000Z
X-MICROSOFT-CDO-ALLDAYEVENT:FALSE
SUMMARY:Networking @ Noon July 2012
DESCRIPTION:The July Networking @ Noon is sponsored by ELGA Credit Union and Tumbleweed Cantina.  The event will be held at Tumbleweed Cantina from 11:30am - 1:30pm.  They are located at 6484 Bennett Lake Rd.\, Fenton.
X-ALT-DESC;FMTTYPE=text/html:The July Networking @ Noon is sponsored by ELGA Credit Union and Tumbleweed Cantina.&nbsp\; The event will be held at Tumbleweed Cantina from 11:30am - 1:30pm.&nbsp\; They are located at 6484 Bennett Lake Rd.\, Fenton.
LOCATION:Tumbleweed Cantina 6484 Bennett Lake Rd.\, Fenton
UID:e.1362.78
SEQUENCE:3
DTSTAMP:20260422T120123Z
URL:https://business.fentonchamber.com/events/details/networking-noon-july-2012-07-19-2012-78
END:VEVENT

END:VCALENDAR
