BEGIN:VCALENDAR
VERSION:2.0
PRODID:-//ChamberMaster//Event Calendar 2.0//EN
METHOD:PUBLISH
X-PUBLISHED-TTL:P3D
REFRESH-INTERVAL:P3D
CALSCALE:GREGORIAN
BEGIN:VEVENT
DTSTART:20120419T153000Z
DTEND:20120419T173000Z
X-MICROSOFT-CDO-ALLDAYEVENT:FALSE
SUMMARY:Networking @ Noon April 2012
DESCRIPTION:Join us at Treasure Baskets for Networking and a light bite to eat!  Bring lots of business cards\, we are averaging over 100 in attendance monthly.
X-ALT-DESC;FMTTYPE=text/html:Join us at Treasure Baskets for Networking and a light bite to eat!&nbsp\; Bring lots of business cards\, we are averaging over 100 in attendance monthly.
LOCATION:Treasure Baskets 12821 S. Saginaw St. Grand Blanc\, MI 48442
UID:e.1362.5
SEQUENCE:3
DTSTAMP:20260425T213019Z
URL:https://business.fentonchamber.com/events/details/networking-noon-april-2012-04-19-2012-5
END:VEVENT

END:VCALENDAR
