BEGIN:VCALENDAR
VERSION:2.0
PRODID:-//ChamberMaster//Event Calendar 2.0//EN
METHOD:PUBLISH
X-PUBLISHED-TTL:P3D
REFRESH-INTERVAL:P3D
CALSCALE:GREGORIAN
BEGIN:VEVENT
DTSTART:20140909T210000Z
DTEND:20140909T230000Z
X-MICROSOFT-CDO-ALLDAYEVENT:FALSE
SUMMARY:Networking After Hours - Berkshire Hathaway Home Services
DESCRIPTION:A lite bit to eat provided by Beale St. Smokehouse BBQ.\n\n\n\nTents provided by Exhibition Services\, Inc.
X-ALT-DESC;FMTTYPE=text/html:A lite bit to eat provided by Beale St. Smokehouse BBQ.<br />\n<br />\nTents provided by Exhibition Services\, Inc.
LOCATION:Berkshire Hathaway Home Services 2359 W. Shiawassee Fenton\, MI 48430
UID:e.1362.1654
SEQUENCE:3
DTSTAMP:20260419T120105Z
URL:https://business.fentonchamber.com/events/details/networking-after-hours-berkshire-hathaway-home-services-09-09-2014-1654
END:VEVENT

END:VCALENDAR
