BEGIN:VCALENDAR
VERSION:2.0
PRODID:-//ChamberMaster//Event Calendar 2.0//EN
METHOD:PUBLISH
X-PUBLISHED-TTL:P3D
REFRESH-INTERVAL:P3D
CALSCALE:GREGORIAN
BEGIN:VEVENT
DTSTART:20150424T230000Z
DTEND:20150425T010000Z
X-MICROSOFT-CDO-ALLDAYEVENT:FALSE
SUMMARY:Murder Mystery Dinner - Deadly Incentive
DESCRIPTION:You are invited to a MURDER \n\n\n\n \n\n\n\nYou're invited to Seamus O'Malley's Pub and Grub for a KILLER treasure hunt.  It promises to be the adventure of a lifetime. The prize (assuming you survive\,\n\nof course) is "A Pot of Gold".\n\n\n\n                 \n\n\n\nYour mission\, should you choose to accept it\, is to solve a murder (or two).\n\n\n\nAre you up to the challenge?\n\n\n\n \n\n\n\nWe want you to be fully involved in the experience so please come in costume and in character (perhaps you're a world-renowned adventurer or a desperate gold digger?) It's optional\, of course\, but it will enhance your whole experience. Use your imagination and get ready to play!\n\n\n\n \n\n\n\nWHODUNIT???\n\n\n\n \n\n\n\nWho among you will become a cold-blooded killer? A victim?\n\n\n\nBe warned and beware\, it could be the person standing right next to you!\n\n\n\n \n\n\n\nYour Prime Suspects in "A Deadly Incentive":\n\n\n\n \n\n\n\nSeamus O'Malley:  The pub owner who'll do anything to keep his tavern afloat. \n\n\n\nOfficer Johnny Malone: Seamus' cousin.\n\n\n\nPeter Blackwell: He's the mastermind behind this "Pot of Gold" PR campaign for Seamus.\n\n\n\nMoira Blackwell: Peter's wealthy wife. \n\n\n\nIrma Snell: Peter's research analyst. \n\n\n\nLurleen Johnson: A contestant in the hunt. \n\n\n\n \n\n\n\nThe cost for this event is $60pp (payable in advance using the drop down menu below) and includes:\n\n\n\n \n\n\n\nSpecial wine pairing \n\n\n\n \n\n\n\nFour Course Dinner \n\n\n\n \n\n\n\nDinner\n\n\n\n \n\n\n\nTBD\n\n\n\n \n\n\n\nSeating is limited to 30 guests.  Please RSVP with payment to secure your seat!\n\n\n\n \n\n\n\nYou must cancel at least 72 hours prior to the event in order to receive a refund. Once payment is made\, your reservation is complete.  If you would like further confirmation\, please call 810-208-0253.
X-ALT-DESC;FMTTYPE=text/html:You are invited to a MURDER&hellip\;<br />\n<br />\n&nbsp\;<br />\n<br />\nYou&rsquo\;re invited to Seamus O&rsquo\;Malley&rsquo\;s Pub and Grub for a&nbsp\;KILLER&nbsp\;treasure hunt.&nbsp\; It promises to be the adventure of a lifetime. The prize (assuming you survive\,<br />\nof course) is &ldquo\;A Pot of Gold&rdquo\;.<br />\n<br />\n&nbsp\;&nbsp\;&nbsp\;&nbsp\;&nbsp\;&nbsp\;&nbsp\;&nbsp\;&nbsp\;&nbsp\;&nbsp\;&nbsp\;&nbsp\;&nbsp\;&nbsp\; &nbsp\;<br />\n<br />\nYour mission\, should you choose to accept it\, is to solve a murder (or two).<br />\n<br />\nAre you up to the challenge?<br />\n<br />\n&nbsp\;<br />\n<br />\nWe want you to be fully involved in the experience so please come in costume and in character (perhaps you&rsquo\;re a world-renowned adventurer or a desperate gold digger?) It&rsquo\;s optional\, of course\, but it will enhance your whole experience. Use your imagination and get ready to play!<br />\n<br />\n&nbsp\;<br />\n<br />\nWHODUNIT???<br />\n<br />\n&nbsp\;<br />\n<br />\nWho among you will become a cold-blooded killer? A victim?<br />\n<br />\nBe warned and beware\, it could be the person standing right next to you!<br />\n<br />\n&nbsp\;<br />\n<br />\nYour Prime Suspects in &ldquo\;A Deadly Incentive&rdquo\;:<br />\n<br />\n&nbsp\;<br />\n<br />\nSeamus O&rsquo\;Malley:&nbsp\; The pub owner who&rsquo\;ll do anything to keep his tavern afloat.&nbsp\;<br />\n<br />\nOfficer Johnny Malone:&nbsp\;Seamus&rsquo\; cousin.<br />\n<br />\nPeter Blackwell:&nbsp\;He&rsquo\;s the mastermind behind this &ldquo\;Pot of Gold&rdquo\; PR campaign for Seamus.<br />\n<br />\nMoira Blackwell:&nbsp\;Peter&rsquo\;s wealthy wife.&nbsp\;<br />\n<br />\nIrma Snell:&nbsp\;Peter&rsquo\;s research analyst.&nbsp\;<br />\n<br />\nLurleen Johnson:&nbsp\;A contestant in the hunt.&nbsp\;<br />\n<br />\n&nbsp\;<br />\n<br />\nThe cost for this event is $60pp (payable in advance using the drop down menu below) and includes:<br />\n<br />\n&nbsp\;<br />\n<br />\nSpecial&nbsp\;wine pairing&nbsp\;<br />\n<br />\n&nbsp\;<br />\n<br />\nFour Course Dinner&nbsp\;<br />\n<br />\n&nbsp\;<br />\n<br />\nDinner<br />\n<br />\n&nbsp\;<br />\n<br />\nTBD<br />\n<br />\n&nbsp\;<br />\n<br />\nSeating is limited to 30 guests. &nbsp\;Please RSVP with payment to secure your seat!<br />\n<br />\n&nbsp\;<br />\n<br />\nYou must cancel at least 72 hours prior to the event in order to receive a refund.&nbsp\;Once payment is made\, your reservation is complete. &nbsp\;If you would like further confirmation\, please call 810-208-0253.
LOCATION:1545 N. Leroy St. Fenton\, MI 48430
UID:e.1362.2839
SEQUENCE:3
DTSTAMP:20260422T190423Z
URL:https://business.fentonchamber.com/events/details/murder-mystery-dinner-deadly-incentive-04-24-2015-2839
END:VEVENT

END:VCALENDAR
