BEGIN:VCALENDAR
VERSION:2.0
PRODID:-//ChamberMaster//Event Calendar 2.0//EN
METHOD:PUBLISH
X-PUBLISHED-TTL:P3D
REFRESH-INTERVAL:P3D
CALSCALE:GREGORIAN
BEGIN:VEVENT
DTSTART:20230223T180000Z
DTEND:20230223T210000Z
X-MICROSOFT-CDO-ALLDAYEVENT:FALSE
SUMMARY:MULTI-INDUSTRY APPLICATION BASH
DESCRIPTION:Stop by and check out open positions from various local employers! Applications can be filled out on-site or taken home to complete and Career Coaches will be ready to assist with any questions about online job searching that you may have!
X-ALT-DESC;FMTTYPE=text/html:Stop by and check out open positions from various local employers! Applications can be filled out on-site or taken home to complete and Career Coaches will be ready to assist with any questions about online job searching that you may have!
LOCATION:GST MichiganWORKS! Fenton Service Center 4045 Owen Rd\, Fenton\, MI 48430
UID:e.1362.9155
SEQUENCE:3
DTSTAMP:20260420T060623Z
URL:https://business.fentonchamber.com/events/details/multi-industry-application-bash-9155
END:VEVENT

END:VCALENDAR
