BEGIN:VCALENDAR
VERSION:2.0
PRODID:-//ChamberMaster//Event Calendar 2.0//EN
METHOD:PUBLISH
X-PUBLISHED-TTL:P3D
REFRESH-INTERVAL:P3D
CALSCALE:GREGORIAN
BEGIN:VEVENT
DTSTART:20150611T200000Z
DTEND:20150611T230000Z
X-MICROSOFT-CDO-ALLDAYEVENT:FALSE
SUMMARY:Michalkow Orthodontics Grand Opening and Ribbon Cutting
DESCRIPTION:
X-ALT-DESC;FMTTYPE=text/html:
LOCATION:17200 Silver Parkway\, Suite 2\, Fenton
UID:e.1362.3057
SEQUENCE:3
DTSTAMP:20260426T023019Z
URL:https://business.fentonchamber.com/events/details/michalkow-orthodontics-grand-opening-and-ribbon-cutting-06-11-2015-3057
END:VEVENT

END:VCALENDAR
