BEGIN:VCALENDAR
VERSION:2.0
PRODID:-//ChamberMaster//Event Calendar 2.0//EN
METHOD:PUBLISH
X-PUBLISHED-TTL:P3D
REFRESH-INTERVAL:P3D
CALSCALE:GREGORIAN
BEGIN:VEVENT
DTSTART:20221006T230000Z
DTEND:20221007T010000Z
X-MICROSOFT-CDO-ALLDAYEVENT:FALSE
SUMMARY:Meet the Candidates 2022
DESCRIPTION:Meet the Candidates-\n\nFocusing on the candidates running for the State Representative position in the 72nd District. \n\nTo submit questions for the candidates\, please email them to info@FentonChamber.com\n\n \nMike Mueller (R) and Stacy Taylor (D)\, \n\nthe Candidates running for State Representative\, \n\nDistrict 72\, are invited to be on the panel. \n\nOur focus\, attention\, and questions are for them only.\n\n \n\nRepresentatives and candidates from other\n\nMichigan government positions\, \n\nincluding local municipalities within our area\, \n\nare also invited to briefly introduce themselves\, but are not \n\nincluded on the panel to answer questions during the program. \n\nRefreshments will be provided.\n\nPlease join us for an evening full of information!
X-ALT-DESC;FMTTYPE=text/html:<span style="font-family:tahoma\;">Meet the Candidates-<br>\nFocusing on&nbsp\;the candidates running for the State Representative position in the 72nd District.&nbsp\;</span><br>\nTo submit questions for the candidates\, please email them to info@FentonChamber.com<br>\n&nbsp\;\n<p align="center" style="margin:0in\;text-align:center\;line-height:140%"><span style="font-size:15.0pt\;line-height:140%">Mike Mueller (R) and Stacy Taylor (D)\,&nbsp\;</span><br>\n<span style="font-size:15.0pt\;line-height:140%">the Candidates running for State Representative\, </span><span style="font-size:10.5pt\;line-height:\n140%"><o:p></o:p></span></p>\n\n<p align="center" style="margin:0in\;text-align:center\;line-height:140%"><span style="font-size:15.0pt\;line-height:140%">District 72\, are invited to be on the panel.&nbsp\;</span><br>\n<span style="font-size:15.0pt\;line-height:140%">Our focus\, attention\, and questions are for them only.</span><br>\n<span style="font-size:15.0pt\;line-height:140%">&nbsp\;</span><br>\n<span style="font-size:15.0pt\;line-height:140%">Representatives and candidates from other<br>\nMichigan government positions\, <o:p></o:p></span></p>\n\n<p align="center" style="margin:0in\;text-align:center\;line-height:140%"><span style="font-size:15.0pt\;line-height:140%">including local municipalities within our area\, </span><span style="font-size:10.5pt\;line-height:140%"><o:p></o:p></span></p>\n\n<p align="center" style="margin:0in\;text-align:center\;line-height:140%"><span style="font-size:15.0pt\;line-height:140%">are also invited to briefly introduce themselves\, but are not </span><span style="font-size:10.5pt\;line-height:140%"><o:p></o:p></span></p>\n\n<p align="center" style="margin:0in\;text-align:center\;line-height:140%"><span style="font-size:15.0pt\;line-height:140%">included on the panel to answer questions during the program.</span><span style="font-size:10.5pt\;line-height:\n140%">&nbsp\;<o:p></o:p></span></p>\n\n<p align="center" style="text-align:center\;line-height:140%"><span style="font-size:13.5pt\;line-height:140%\;font-family:&quot\;Arial Black&quot\;\,sans-serif\;\ncolor:#004990">Refreshments will be provided.</span><span style="font-size:\n10.5pt\;line-height:140%"><o:p></o:p></span></p>\n\n<p align="center" style="text-align:center\;line-height:140%"><span style="font-size:13.5pt\;line-height:140%\;font-family:&quot\;Arial Black&quot\;\,sans-serif\;\ncolor:#004990">Please join us for an evening full of information!</span><span style="font-size:10.5pt\;line-height:140%"><o:p></o:p></span></p>\n
LOCATION:Fenton Community & Cultural Center 150 S. Leroy St. Fenton MI 48430
UID:e.1362.8951
SEQUENCE:3
DTSTAMP:20260420T121640Z
URL:https://business.fentonchamber.com/events/details/meet-the-candidates-2022-8951
END:VEVENT

END:VCALENDAR
