BEGIN:VCALENDAR
VERSION:2.0
PRODID:-//ChamberMaster//Event Calendar 2.0//EN
METHOD:PUBLISH
X-PUBLISHED-TTL:P3D
REFRESH-INTERVAL:P3D
CALSCALE:GREGORIAN
BEGIN:VEVENT
DTSTART:20120421T220000Z
DTEND:20120422T030000Z
X-MICROSOFT-CDO-ALLDAYEVENT:FALSE
SUMMARY:Mask-Car-Aid
DESCRIPTION:Team LaFontaine Presents Mask-Car-Aid to benefit the 2012 Leukemia Lymphoma Society Man & Woman of the Year Campaign.\n\n\n\nThis Masquerade Style Party is our kick-off Fundraiser to support The Leukemia & Lymphoma Society. Join us for a Luxurious and Exciting Evening of Casino Gaming\, Dueling Pianos\, Silent & Live Auctions\, Raffle Tickets for a Fantasy Vacation\, Cocktails & Hors D'oeuvres\, and so much more!!\n\n\n\nIf you've never been to a LaFontaine FUN-Raiser\, now's your chance! Masquerade style masks will be provided when you enter through Cadillac Showroom for complimentary valet parking.\n\n\n\nFor advance Tickets: e-mail kelley@lafontaine.com or call Carol Peters (248) 714-1164
X-ALT-DESC;FMTTYPE=text/html:Team LaFontaine Presents Mask-Car-Aid to benefit the 2012 Leukemia Lymphoma Society Man &amp\; Woman of the Year Campaign.<br />\n<br />\nThis Masquerade Style Party is our kick-off Fundraiser to support The Leukemia &amp\; Lymphoma Society. Join us for a Luxurious and Exciting Evening of Casino Gaming\, Dueling Pianos\, Silent &amp\; Live Auctions\, Raffle Tickets for a Fantasy Vacation\, Cocktails &amp\; Hors D&rsquo\;oeuvres\, and so much more!!<br />\n<br />\nIf you&#39\;ve never been to a LaFontaine FUN-Raiser\, now&#39\;s your chance! Masquerade style masks will be provided when you enter through Cadillac Showroom for complimentary valet parking.<br />\n<br />\nFor advance Tickets: e-mail kelley@lafontaine.com or call Carol Peters (248) 714-1164
LOCATION:
UID:e.1362.25
SEQUENCE:3
DTSTAMP:20260425T213337Z
URL:https://business.fentonchamber.com/events/details/mask-car-aid-04-21-2012-25
END:VEVENT

END:VCALENDAR
