BEGIN:VCALENDAR
VERSION:2.0
PRODID:-//ChamberMaster//Event Calendar 2.0//EN
METHOD:PUBLISH
X-PUBLISHED-TTL:P3D
REFRESH-INTERVAL:P3D
CALSCALE:GREGORIAN
BEGIN:VEVENT
DTSTART:20230924T160000Z
DTEND:20230924T190000Z
X-MICROSOFT-CDO-ALLDAYEVENT:FALSE
SUMMARY:Manna March- Walk Against Hunger
DESCRIPTION:The Manna March is hosted by Feed My People\, focused on feeding people with the goal of improving the quality of life and providing services/programs to address the need of the community. Registration for walkers is $30 and includes a t-shirt. If you are unable to attend in-person\, consider becoming a virtual walker for only $10. Brats\, healthy snacks\, water and soft drinks will be offered for all participants. We will present the George Hubert Heart Award to the group or organization that registers the largest amount of walkers. Sponsorship opportunities are also available. We hope to see the community come together once again to help support the cause.
X-ALT-DESC;FMTTYPE=text/html:The Manna March is hosted by Feed My People\, focused on feeding people with the goal of improving the quality of life and providing services/programs to address the need of the community. Registration for walkers is $30 and includes a t-shirt. If you are unable to attend in-person\, consider becoming a virtual walker for only $10. Brats\, healthy snacks\, water and soft drinks will be offered for all participants. We will present the George Hubert Heart Award to the group or organization that registers the largest amount of walkers. Sponsorship opportunities are also available. We hope to see the community come together once again to help support the cause.
LOCATION:Jefferson Barracks Park 345 North Rd West St. Louis\, MO 63125
UID:e.1362.9263
SEQUENCE:3
DTSTAMP:20260419T191706Z
URL:https://business.fentonchamber.com/events/details/manna-march-walk-against-hunger-9263
END:VEVENT

END:VCALENDAR
