BEGIN:VCALENDAR
VERSION:2.0
PRODID:-//ChamberMaster//Event Calendar 2.0//EN
METHOD:PUBLISH
X-PUBLISHED-TTL:P3D
REFRESH-INTERVAL:P3D
CALSCALE:GREGORIAN
BEGIN:VEVENT
DTSTART:20120414T230000Z
DTEND:20120415T010000Z
X-MICROSOFT-CDO-ALLDAYEVENT:FALSE
SUMMARY:Live Accoustic At Gatsby Grind
DESCRIPTION:Join us at Gatsby Grind for an exceptional evening on the tunes of Benjamin Salazar.\n\nMenu includesHumus\, salads\, sandwishes\, smoothies\, coffee bar\, desserts.\n\nAttending the event is Free\, food prices varies.
X-ALT-DESC;FMTTYPE=text/html:Join us at Gatsby Grind for an exceptional evening on the tunes of Benjamin Salazar.<br />\nMenu includesHumus\, salads\, sandwishes\, smoothies\, coffee bar\, desserts.<br />\nAttending the event is Free\, food prices varies.
LOCATION:Gatsby Grind Coffee house\, in the same plaza as Sagebrush Cantina.
UID:e.1362.23
SEQUENCE:3
DTSTAMP:20260425T200815Z
URL:https://business.fentonchamber.com/events/details/live-accoustic-at-gatsby-grind-04-14-2012-23
END:VEVENT

END:VCALENDAR
