BEGIN:VCALENDAR
VERSION:2.0
PRODID:-//ChamberMaster//Event Calendar 2.0//EN
METHOD:PUBLISH
X-PUBLISHED-TTL:P3D
REFRESH-INTERVAL:P3D
CALSCALE:GREGORIAN
BEGIN:VEVENT
DTSTART:20230927T130000Z
DTEND:20230927T210000Z
X-MICROSOFT-CDO-ALLDAYEVENT:FALSE
SUMMARY:LaFontaine Meet & Greet
DESCRIPTION:LaFontaine Automotive Group is the featured employer in GST MI Works! September Employer Showcase! Join us on Wednesday\, September 27th from 9 am   5 pm at Family Deal Direct as they host a special meet & greet! Join LaFontaine on September 27th to learn more about their passionate team\, their commitment to community\, and how you can be a part of our LaFontaine family!
X-ALT-DESC;FMTTYPE=text/html:LaFontaine Automotive Group is the featured employer in GST MI Works! September Employer Showcase! Join us on Wednesday\, September 27th from 9 am &ndash\; 5 pm at Family Deal Direct as they host a special meet &amp\; greet! Join LaFontaine on September 27th to learn more about their passionate team\, their commitment to community\, and how you can be a part of our LaFontaine family!
LOCATION:Family Deal Direct - 15123 North Rd\, Fenton\, MI 48430
UID:e.1362.9287
SEQUENCE:3
DTSTAMP:20260419T205145Z
URL:https://business.fentonchamber.com/events/details/lafontaine-meet-greet-9287
END:VEVENT

END:VCALENDAR
