BEGIN:VCALENDAR
VERSION:2.0
PRODID:-//ChamberMaster//Event Calendar 2.0//EN
METHOD:PUBLISH
X-PUBLISHED-TTL:P3D
REFRESH-INTERVAL:P3D
CALSCALE:GREGORIAN
BEGIN:VEVENT
DTSTART:20230927T130000Z
DTEND:20230927T210000Z
X-MICROSOFT-CDO-ALLDAYEVENT:FALSE
SUMMARY:LaFontaine Job Fair
DESCRIPTION:Walk in event - no appointment needed
X-ALT-DESC;FMTTYPE=text/html:Walk in event - no appointment needed
LOCATION:15123 North Rd. Fenton MI 48430
UID:e.1362.9274
SEQUENCE:3
DTSTAMP:20260419T205242Z
URL:https://business.fentonchamber.com/events/details/lafontaine-job-fair-9274
END:VEVENT

END:VCALENDAR
