BEGIN:VCALENDAR
VERSION:2.0
PRODID:-//ChamberMaster//Event Calendar 2.0//EN
METHOD:PUBLISH
X-PUBLISHED-TTL:P3D
REFRESH-INTERVAL:P3D
CALSCALE:GREGORIAN
BEGIN:VEVENT
DTSTART:20120419T200000Z
DTEND:20120420T000000Z
X-MICROSOFT-CDO-ALLDAYEVENT:FALSE
SUMMARY:Ladies' Spring Fling
DESCRIPTION:Be Closer...with your friends in downtown Fenton for Fenton's 3rd Thursday event from 4-8pm.  Enter to win prizes at various merchant locations (no purchase necessary).
X-ALT-DESC;FMTTYPE=text/html:Be Closer...with your friends in&nbsp\;downtown Fenton for Fenton&#39\;s 3rd Thursday event from&nbsp\;4-8pm.&nbsp\; Enter to win prizes at various merchant locations (no purchase necessary).<br />\n<br />\n
LOCATION:Downtown Fenton
UID:e.1362.35
SEQUENCE:3
DTSTAMP:20260426T022731Z
URL:https://business.fentonchamber.com/events/details/ladies-spring-fling-04-19-2012-35
END:VEVENT

END:VCALENDAR
