BEGIN:VCALENDAR
VERSION:2.0
PRODID:-//ChamberMaster//Event Calendar 2.0//EN
METHOD:PUBLISH
X-PUBLISHED-TTL:P3D
REFRESH-INTERVAL:P3D
CALSCALE:GREGORIAN
BEGIN:VEVENT
DTSTART:20210326T203000Z
DTEND:20210326T233000Z
X-MICROSOFT-CDO-ALLDAYEVENT:FALSE
SUMMARY:Knights of Columbus Lenten Fish Fry
DESCRIPTION:2021 Lenten Fish Fry\n\nServing Fish Dinners during Lent\, 2/19 through 3/26.\n\nNo Dinners served on Good Friday\, 4/2
X-ALT-DESC;FMTTYPE=text/html:2021 Lenten Fish Fry<br />\nServing Fish Dinners during Lent\, 2/19 through 3/26.<br />\nNo Dinners served on Good Friday\, 4/2
LOCATION:Carry-out only with Curb-side Delivery Fr. Harvey Activity Center located directly behind St. John Church\,
UID:e.1362.7852
SEQUENCE:3
DTSTAMP:20260421T184037Z
URL:https://business.fentonchamber.com/events/details/knights-of-columbus-lenten-fish-fry-03-26-2021-7852
END:VEVENT

END:VCALENDAR
