BEGIN:VCALENDAR
VERSION:2.0
PRODID:-//ChamberMaster//Event Calendar 2.0//EN
METHOD:PUBLISH
X-PUBLISHED-TTL:P3D
REFRESH-INTERVAL:P3D
CALSCALE:GREGORIAN
BEGIN:VEVENT
DTSTART:20230107T130000Z
DTEND:20230108T210000Z
X-MICROSOFT-CDO-ALLDAYEVENT:FALSE
SUMMARY:January 2023 Bottle/Can Collection - Bring in holiday returnables!!!
DESCRIPTION:The first Bottle/Can Collection Event of 2023 this weekend\n\nSaturday\, January 7th 8am to Sunday\, January 8th\, 4pm\n\ndrop-off any time\, volunteers on-hand Sunday\, 8am - 12:30pm to receive/process returnables in person\n\n\n\nWHERE: St John the Evangelist Catholic Church\, 600 N. Adelaide\, Fenton\, MI. \n\nBring all bagged/boxed returnables.to the drop-off trailer at the south drive of the church\n\nNo donation too small or too large\n\nOrganizers:  Knights of Columbus Council 7418 and the Ladies Auxiliary.
X-ALT-DESC;FMTTYPE=text/html:<div style="text-align:center"><span style="font-size:18px"><span style="color:#0000CD"><strong>The first Bottle/Can Collection Event of 2023 this weekend</strong></span></span></div>\n\n<div style="text-align:center"><span style="font-size:14px"><strong>Saturday\, January 7th 8am to Sunday\, January 8th\, 4pm</strong></span><br />\n<span style="font-size:11px"><strong><em>drop-off any time\, volunteers on-hand Sunday\, 8am - 12:30pm to receive/process returnables in person</em><br />\n<br />\nWHERE:&nbsp\;St John the Evangelist Catholic Church\, 600 N. Adelaide\, Fenton\, MI.&nbsp\;</strong></span><br />\nBring all bagged/boxed returnables.to the drop-off trailer at the <strong><u>south drive of the church</u></strong><br />\n<strong><span style="color:#B22222">No donation too small or too large</span></strong><br />\n<em><span style="font-size:11px">Organizers:&nbsp\; Knights of Columbus Council 7418 and the Ladies Auxiliary.</span></em></div>\n
LOCATION:St. John the Evangelist Catholic Church\, 600 N. Adelaide\, Fenton\, MI. Trailer parked off south drive of church.
UID:e.1362.9136
SEQUENCE:3
DTSTAMP:20260420T075003Z
URL:https://business.fentonchamber.com/events/details/january-2023-bottle-can-collection-bring-in-holiday-returnables-9136
END:VEVENT

END:VCALENDAR
