BEGIN:VCALENDAR
VERSION:2.0
PRODID:-//ChamberMaster//Event Calendar 2.0//EN
METHOD:PUBLISH
X-PUBLISHED-TTL:P3D
REFRESH-INTERVAL:P3D
CALSCALE:GREGORIAN
BEGIN:VEVENT
DTSTART:20150605T220000Z
DTEND:20150606T010000Z
X-MICROSOFT-CDO-ALLDAYEVENT:FALSE
SUMMARY:Invisalign Spa Evening
DESCRIPTION:Relax\, be spoiled and love yourself!\n\nEnjoy a free massage\, manicure\, appetizers\, refreshments and a complimentary Invisalign impression.\n\n\n\nLet us show you how easy and affordable it is to get a healthy and straight smile you've always dreamed of. \n\n\n\n*Door prizes will be given away every half hour!\n\n*If you are eligible for Invisalign & begin treatment at this event you will receive $500 OFF treatment!\n\n\n\n**Reservations are required! Please respond to our Facebook post or call to let us know how many family members or friends will be joining you.
X-ALT-DESC;FMTTYPE=text/html:<span style="font-family:verdana\;"><strong><span style="font-size:14px\;">Relax\, be spoiled and love yourself!</span></strong><br />\nEnjoy a free massage\, manicure\, appetizers\, refreshments and a complimentary Invisalign impression.<br />\n<br />\n<em>Let us show you how easy and affordable it is to get a healthy and straight smile you&#39\;ve always dreamed of.&nbsp\;</em><br />\n<br />\n*Door prizes will be given away every half hour!<br />\n*If you are eligible for Invisalign &amp\; begin treatment at this event you will receive <strong>$500 OFF</strong>&nbsp\;treatment!<br />\n<br />\n**Reservations are required! Please respond to our Facebook post or call to let us know how many family members or friends will be joining you.</span><br />\n&nbsp\;
LOCATION:Dr. Wax Orthodontics 123 N. Bridge St.\, Ste 3 Linden\, MI 48451
UID:e.1362.3055
SEQUENCE:3
DTSTAMP:20260426T022553Z
URL:https://business.fentonchamber.com/events/details/invisalign-spa-evening-06-05-2015-3055
END:VEVENT

END:VCALENDAR
