BEGIN:VCALENDAR
VERSION:2.0
PRODID:-//ChamberMaster//Event Calendar 2.0//EN
METHOD:PUBLISH
X-PUBLISHED-TTL:P3D
REFRESH-INTERVAL:P3D
CALSCALE:GREGORIAN
BEGIN:VEVENT
DTSTART:20220430T140000Z
DTEND:20220430T210000Z
X-MICROSOFT-CDO-ALLDAYEVENT:FALSE
SUMMARY:Independent Bookstore Day
DESCRIPTION:Independent Bookstore Day!\n\nJoin Indie Bookstores around the country to celebrate! Sales\, give-aways\, author signing\, snacks\, special indie bookstore day merchandise\, and more. Join the party!
X-ALT-DESC;FMTTYPE=text/html:Independent Bookstore Day!<br />\nJoin Indie Bookstores around the country to celebrate! Sales\, give-aways\, author signing\, snacks\, special indie bookstore day merchandise\, and more. Join the party!
LOCATION:Fenton's Open Book 810-629-8000 105 W. Shiawassee Fenton MI 48430
UID:e.1362.8712
SEQUENCE:3
DTSTAMP:20260420T060916Z
URL:https://business.fentonchamber.com/events/details/independent-bookstore-day-8712
END:VEVENT

END:VCALENDAR
