BEGIN:VCALENDAR
VERSION:2.0
PRODID:-//ChamberMaster//Event Calendar 2.0//EN
METHOD:PUBLISH
X-PUBLISHED-TTL:P3D
REFRESH-INTERVAL:P3D
CALSCALE:GREGORIAN
BEGIN:VEVENT
DTSTART;VALUE=DATE:20121101
DTEND;VALUE=DATE:20130302
TRANSP:TRANSPARENT
X-MICROSOFT-CDO-ALLDAYEVENT:TRUE
SUMMARY:HAP's Annual Boot Drive
DESCRIPTION:Health Alliance Plan is collecting new warm winter boots for children to be donated to Carriage Town Ministries\, Flint\; East Side Compassionate Mission\, Flint\; and Outreach East\, Davison.\n\nPlease help our efforts to keep hundreds of little feet warm this winter!\n\n\n\nDonations may be dropped off at many Genesee County Businesses. \n\nPlease call 810-230-7404 x 221 for drop off locations and times. \n\n\n\nIf you'd rather - we'll do the shopping for you!  Cash donations and retail gift cards may be mailed to:\n\n HAP\n\n1397 S. Linden Rd.\, Ste. C\n\nFlint\, MI  48532\n\n\n\nPlease make checks payable to:  Priority Children/HAP's Annual Boot Drive.\n\nAll donations are tax-deductible\; receipt available upon request.
X-ALT-DESC;FMTTYPE=text/html:<br />\nHealth Alliance Plan is collecting <strong>new warm </strong>winter boots for children to be donated to Carriage Town Ministries\, Flint\; East Side Compassionate Mission\, Flint\; and Outreach East\, Davison.<br />\nPlease help our efforts to keep hundreds of little feet warm this winter!<br />\n<br />\nDonations may be dropped off at many Genesee County Businesses.&nbsp\;<br />\nPlease call 810-230-7404 x 221 for drop off locations and times.&nbsp\;<br />\n<br />\nIf you&#39\;d rather - we&#39\;ll do the shopping for you!&nbsp\; Cash donations and retail gift cards may be mailed to:<br />\n&nbsp\;HAP<br />\n1397 S. Linden Rd.\, Ste. C<br />\nFlint\, MI&nbsp\; 48532<br />\n<br />\nPlease make checks payable to:&nbsp\; Priority Children/HAP&#39\;s Annual Boot Drive.<br />\nAll donations are tax-deductible\; receipt available upon request.<br />\n<br />\n<br />\n<br />\n<br />\n<br />\n
LOCATION:HAP 1397 S. Linden Rd.\, Ste. C Flint\, MI 48532
UID:e.1362.207
SEQUENCE:3
DTSTAMP:20260426T025206Z
URL:https://business.fentonchamber.com/events/details/hap-s-annual-boot-drive-11-01-2012-207
END:VEVENT

END:VCALENDAR
