BEGIN:VCALENDAR
VERSION:2.0
PRODID:-//ChamberMaster//Event Calendar 2.0//EN
METHOD:PUBLISH
X-PUBLISHED-TTL:P3D
REFRESH-INTERVAL:P3D
CALSCALE:GREGORIAN
BEGIN:VEVENT
DTSTART:20231018T180000Z
DTEND:20231018T190000Z
X-MICROSOFT-CDO-ALLDAYEVENT:FALSE
SUMMARY:Halloween Wreath Making
DESCRIPTION:All are welcome to visit the Loose Senior center and join us for a spooktacular time!
X-ALT-DESC;FMTTYPE=text/html:All are welcome to visit the Loose Senior center and join us for a spooktacular time!
LOCATION:Loose Senior Center 707 N. Bridge Street\, Linden\, MI 48451
UID:e.1362.9292
SEQUENCE:3
DTSTAMP:20260419T174142Z
URL:https://business.fentonchamber.com/events/details/halloween-wreath-making-9292
END:VEVENT

END:VCALENDAR
