BEGIN:VCALENDAR
VERSION:2.0
PRODID:-//ChamberMaster//Event Calendar 2.0//EN
METHOD:PUBLISH
X-PUBLISHED-TTL:P3D
REFRESH-INTERVAL:P3D
CALSCALE:GREGORIAN
BEGIN:VEVENT
DTSTART:20150723T203000Z
DTEND:20150723T210000Z
X-MICROSOFT-CDO-ALLDAYEVENT:FALSE
SUMMARY:Guenter Beholz Jewelers Ribbon Cutting
DESCRIPTION:Help welcome Guenter Beholz Jewelers into their new home at 114 N. Leroy St!\n\n\n\nA lite bit and refreshments will be provided.
X-ALT-DESC;FMTTYPE=text/html:Help welcome Guenter Beholz Jewelers into their new home at 114 N. Leroy St!<br />\n<br />\nA lite bit and refreshments will be provided.
LOCATION:114 S. Leroy St\, Fenton (next to the Fenton Community & Cultural Center)
UID:e.1362.3078
SEQUENCE:3
DTSTAMP:20260426T004018Z
URL:https://business.fentonchamber.com/events/details/guenter-beholz-jewelers-ribbon-cutting-07-23-2015-3078
END:VEVENT

END:VCALENDAR
