BEGIN:VCALENDAR
VERSION:2.0
PRODID:-//ChamberMaster//Event Calendar 2.0//EN
METHOD:PUBLISH
X-PUBLISHED-TTL:P3D
REFRESH-INTERVAL:P3D
CALSCALE:GREGORIAN
BEGIN:VEVENT
DTSTART:20120609T200000Z
DTEND:20120609T200000Z
X-MICROSOFT-CDO-ALLDAYEVENT:FALSE
SUMMARY:Grand Opening Adopt A Pet New Dog Building
DESCRIPTION:Please join Adopt A Pet on the opening on our new addition to our dog building.
X-ALT-DESC;FMTTYPE=text/html:<p>\n	Please join Adopt A Pet on the opening on our new addition to&nbsp\;our dog building.</p>\n
LOCATION:Adopt A Pet 13575 N. Fenton Road\, Fenton
UID:e.1362.155
SEQUENCE:3
DTSTAMP:20260425T222219Z
URL:https://business.fentonchamber.com/events/details/grand-opening-adopt-a-pet-new-dog-building-06-09-2012-155
END:VEVENT

END:VCALENDAR
